BEGIN:VCALENDAR
VERSION:2.0
PRODID:-//INSPE · Institut national supérieur du professorat et de l&#039;éducation Normandie · Caen - ECPv6.15.18//NONSGML v1.0//EN
CALSCALE:GREGORIAN
METHOD:PUBLISH
X-WR-CALNAME:INSPE · Institut national supérieur du professorat et de l&#039;éducation Normandie · Caen
X-ORIGINAL-URL:https://inspe.unicaen.fr
X-WR-CALDESC:Évènements pour INSPE · Institut national supérieur du professorat et de l&#039;éducation Normandie · Caen
REFRESH-INTERVAL;VALUE=DURATION:PT1H
X-Robots-Tag:noindex
X-PUBLISHED-TTL:PT1H
BEGIN:VTIMEZONE
TZID:Europe/Paris
BEGIN:DAYLIGHT
TZOFFSETFROM:+0100
TZOFFSETTO:+0200
TZNAME:CEST
DTSTART:20240331T010000
END:DAYLIGHT
BEGIN:STANDARD
TZOFFSETFROM:+0200
TZOFFSETTO:+0100
TZNAME:CET
DTSTART:20241027T010000
END:STANDARD
BEGIN:DAYLIGHT
TZOFFSETFROM:+0100
TZOFFSETTO:+0200
TZNAME:CEST
DTSTART:20250330T010000
END:DAYLIGHT
BEGIN:STANDARD
TZOFFSETFROM:+0200
TZOFFSETTO:+0100
TZNAME:CET
DTSTART:20251026T010000
END:STANDARD
BEGIN:DAYLIGHT
TZOFFSETFROM:+0100
TZOFFSETTO:+0200
TZNAME:CEST
DTSTART:20260329T010000
END:DAYLIGHT
BEGIN:STANDARD
TZOFFSETFROM:+0200
TZOFFSETTO:+0100
TZNAME:CET
DTSTART:20261025T010000
END:STANDARD
BEGIN:DAYLIGHT
TZOFFSETFROM:+0100
TZOFFSETTO:+0200
TZNAME:CEST
DTSTART:20270328T010000
END:DAYLIGHT
BEGIN:STANDARD
TZOFFSETFROM:+0200
TZOFFSETTO:+0100
TZNAME:CET
DTSTART:20271031T010000
END:STANDARD
END:VTIMEZONE
BEGIN:VEVENT
DTSTART;TZID=Europe/Paris:20251125T080000
DTEND;TZID=Europe/Paris:20260304T170000
DTSTAMP:20260421T220345
CREATED:20251125T110032Z
LAST-MODIFIED:20251205T090033Z
UID:89219-1764057600-1772643600@inspe.unicaen.fr
SUMMARY:Qui a peur de qui ?
DESCRIPTION:Exposition d’œuvres d’enfants âgés de 3 à 6 ans (1950-1985)\, issues de la collection Germaine Tortel – Pédagogie d’initiation© et prêtées par l’association.Cette exposition fait le lien avec la journée d’études « Enfant auteur : Penser à hauteur d’enfants (J. Korczak) »\, qui se tiendra le 4 mars 2026 sur le site d’Alençon de l’INSPÉ. \n\n\n\nL’exposition est visible dans le hall de l’INSPÉ d’Alençon\, campus de Damigny\, du lundi au vendredi\, de 9 h à 17 h 30.
URL:https://inspe.unicaen.fr/evenement/qui-a-peur-de-qui/
LOCATION:Alençon · INSPÉ\, INSPÉ Normandie Caen\, centre d'Alençon\, Montfoulon\, Damigny\, 61250\, France
CATEGORIES:Exposition,Recherche
ATTACH;FMTTYPE=image/jpeg:https://inspe.unicaen.fr/wp-content/uploads/sites/59/2025/11/2026-04-bannirere_web_enfant_auteur_expo-1.jpg
END:VEVENT
BEGIN:VEVENT
DTSTART;TZID=Europe/Paris:20260204T090000
DTEND;TZID=Europe/Paris:20260204T170000
DTSTAMP:20260421T220345
CREATED:20260112T090525Z
LAST-MODIFIED:20260112T090634Z
UID:89298-1770195600-1770224400@inspe.unicaen.fr
SUMMARY:Workshop : Marchés\, démocratie\, justice
DESCRIPTION:Ce workshop\, proposé aux étudiants du master MEEF SES et aux étudiants d’économie de l’UFR SEGGAT\, aborde des enjeux contemporains tels que les inégalités liées à l’héritage\, le raisonnement public\, la marchandisation et l’écologie du point de vue de la philosophie économique et de l’histoire de la pensée économique. Il s’agira d’analyser comment marchés et systèmes démocratiques peuvent se transformer pour répondre à ces enjeux et contribuer à une société plus juste. \n\n\n\nProgramme workshop (pdf · 194 Ko)Télécharger (pdf · 194 Ko)
URL:https://inspe.unicaen.fr/evenement/workshop-marches-democratie-justice/
LOCATION:Caen · Campus 1 · Maison de la recherche en sciences humaines (MRSH) · Amphi\, Campus 1\, Maison de la recherche en sciences humaines (MRSH)\, 1 Esplanade de la Paix\, Caen\, 14000\, France
CATEGORIES:Conférence
END:VEVENT
BEGIN:VEVENT
DTSTART;TZID=Europe/Paris:20260207T093000
DTEND;TZID=Europe/Paris:20260207T123000
DTSTAMP:20260421T220345
CREATED:20250117T162400Z
LAST-MODIFIED:20260109T145236Z
UID:48656-1770456600-1770467400@inspe.unicaen.fr
SUMMARY:Journée portes ouvertes à l'INSPÉ de Saint-Lô
DESCRIPTION:Le site de Saint-Lô de l’INSPÉ Normandie Caen vous accueille le samedi 7 février de 9h30 à 12h30. \n\n\n\nCette matinée vous permettra de visiter les locaux\, de découvrir les formations proposées\, d’échanger avec les équipes pédagogiques. \n\n\n\nDes conférences sont prévues à 10h et 11h pour présenter la réforme de la formation des enseignants et la nouvelle licence professorat des écoles.
URL:https://inspe.unicaen.fr/evenement/journee-portes-ouvertes-a-linspe-de-saint-lo/
LOCATION:Saint-Lô · INSPÉ\, INSPÉ Normandie Caen\, 10 Rue Saint-Georges\, Saint-Lô\, 50000\, France
CATEGORIES:Orientation - Insertion
END:VEVENT
BEGIN:VEVENT
DTSTART;TZID=Europe/Paris:20260207T093000
DTEND;TZID=Europe/Paris:20260207T123000
DTSTAMP:20260421T220345
CREATED:20260109T142100Z
LAST-MODIFIED:20260109T145306Z
UID:48651-1770456600-1770467400@inspe.unicaen.fr
SUMMARY:Journée portes ouvertes à l'INSPÉ d'Alençon
DESCRIPTION:Le site d’Alençon de l’INSPÉ Normandie Caen vous accueille le samedi 7 février de 9h30 à 12h30 sur le campus de Damigny. \n\n\n\nCette matinée vous permettra de visiter les locaux\, de découvrir les formations proposées\, d’échanger avec les équipes pédagogiques et les étudiants. \n\n\n\nDes conférences sont prévues à 10h et 11h pour présenter la réforme de la formation des enseignants et la nouvelle licence professorat des écoles.
URL:https://inspe.unicaen.fr/evenement/journee-portes-ouvertes-a-linspe-dalencon/
LOCATION:Alençon · INSPÉ\, INSPÉ Normandie Caen\, centre d'Alençon\, Montfoulon\, Damigny\, 61250\, France
CATEGORIES:Orientation - Insertion
END:VEVENT
END:VCALENDAR