BEGIN:VCALENDAR
VERSION:2.0
PRODID:-//INSPE · Institut national supérieur du professorat et de l&#039;éducation Normandie · Caen - ECPv6.15.18//NONSGML v1.0//EN
CALSCALE:GREGORIAN
METHOD:PUBLISH
X-WR-CALNAME:INSPE · Institut national supérieur du professorat et de l&#039;éducation Normandie · Caen
X-ORIGINAL-URL:https://inspe.unicaen.fr
X-WR-CALDESC:Évènements pour INSPE · Institut national supérieur du professorat et de l&#039;éducation Normandie · Caen
REFRESH-INTERVAL;VALUE=DURATION:PT1H
X-Robots-Tag:noindex
X-PUBLISHED-TTL:PT1H
BEGIN:VTIMEZONE
TZID:Europe/Paris
BEGIN:DAYLIGHT
TZOFFSETFROM:+0100
TZOFFSETTO:+0200
TZNAME:CEST
DTSTART:20250330T010000
END:DAYLIGHT
BEGIN:STANDARD
TZOFFSETFROM:+0200
TZOFFSETTO:+0100
TZNAME:CET
DTSTART:20251026T010000
END:STANDARD
BEGIN:DAYLIGHT
TZOFFSETFROM:+0100
TZOFFSETTO:+0200
TZNAME:CEST
DTSTART:20260329T010000
END:DAYLIGHT
BEGIN:STANDARD
TZOFFSETFROM:+0200
TZOFFSETTO:+0100
TZNAME:CET
DTSTART:20261025T010000
END:STANDARD
BEGIN:DAYLIGHT
TZOFFSETFROM:+0100
TZOFFSETTO:+0200
TZNAME:CEST
DTSTART:20270328T010000
END:DAYLIGHT
BEGIN:STANDARD
TZOFFSETFROM:+0200
TZOFFSETTO:+0100
TZNAME:CET
DTSTART:20271031T010000
END:STANDARD
END:VTIMEZONE
BEGIN:VEVENT
DTSTART;TZID=Europe/Paris:20260429T140000
DTEND;TZID=Europe/Paris:20260429T160000
DTSTAMP:20260420T063324
CREATED:20260413T081218Z
LAST-MODIFIED:20260413T082947Z
UID:89559-1777471200-1777478400@inspe.unicaen.fr
SUMMARY:Cérémonie de remise des Prix Dominique Bernard
DESCRIPTION:Le Prix Dominique Bernard\, créé par son épouse Isabelle Bernard\, rend hommage à Dominique Bernard tout en mettant à l’honneur la créativité\, la littérature\, la tolérance et l’expression artistique. La cérémonie\, placée sous le signe du partage\, mêle lectures et interlude musicale. \n\n\n\nLe Prix Dominique Bernard est une invitation à se réunir autour de la lecture. Quatre prix seront remis dans différentes catégories : \n\n\n\n\nLa nouvelle individuelle\n\n\n\nLa nouvelle collective\n\n\n\nLe Prix du journal de bord
URL:https://inspe.unicaen.fr/evenement/ceremonie-de-remise-des-prix-dominique-bernard/
LOCATION:Caen · INSPÉ · Amphi\, INSPÉ Caen Normandie\, 186 Rue de la Délivrande\, Caen\, 14000\, France
CATEGORIES:Vie de l'institut
END:VEVENT
BEGIN:VEVENT
DTSTART;TZID=Europe/Paris:20260519T093000
DTEND;TZID=Europe/Paris:20260519T123000
DTSTAMP:20260420T063324
CREATED:20260220T150005Z
LAST-MODIFIED:20260220T150014Z
UID:89434-1779183000-1779193800@inspe.unicaen.fr
SUMMARY:Séminaire | L’artiste au cœur de l’EAC ? Approches philosophiques et épistémologiques.
DESCRIPTION:Le séminaire « Culture\, médiation et éducation » co-animé avec les étudiants du master « Médiation culturelle et enseignement » accueillera sur deux séances des chercheurs et enseignants chercheurs venant interroger les concepts et fondements de l’éducation artistique et culturelle tout autant que les pratiques d’éducation et de médiation qui y sont liées. \n\n\n\nDans le cadre d’un temps long (3H) qui permet aux chercheurs invités de déplier leur pensée dans toutes ses dimensions et sa complexité\, le séminaire se veut un espace de formation tout autant que de discussion critique qui permet de questionner les processus\, formes et conditions de l’éducation artistique et culturelle afin de l’inscrire dans une perspective d’émancipation.  \n\n\n\nPrivilégiant une approche multiréférentielle (Ardoino)\, le séminaire accueillera Alain Kerlan\, professeur émérite en sciences de l’éducation de l’Université Lyon 2 qui viendra rendre compte\, dans le cadre d’une approche philosophique\, du rôle fondamental de l’artiste au sein des processus d’éducation artistique et culturelle et des « effets » de l’éducation artistique et culturelle.
URL:https://inspe.unicaen.fr/evenement/seminaire-lartiste-au-coeur-de-leac-approches-philosophiques-et-epistemologiques/
LOCATION:INSPÉ · Salle du Conseil\, 186 rue de la Délivrande\, Caen\, 14000\, France
CATEGORIES:Séminaire
END:VEVENT
END:VCALENDAR