BEGIN:VCALENDAR
VERSION:2.0
PRODID:-//INSPE · Institut national supérieur du professorat et de l&#039;éducation Normandie · Caen - ECPv6.15.18//NONSGML v1.0//EN
CALSCALE:GREGORIAN
METHOD:PUBLISH
X-WR-CALNAME:INSPE · Institut national supérieur du professorat et de l&#039;éducation Normandie · Caen
X-ORIGINAL-URL:https://inspe.unicaen.fr
X-WR-CALDESC:Évènements pour INSPE · Institut national supérieur du professorat et de l&#039;éducation Normandie · Caen
REFRESH-INTERVAL;VALUE=DURATION:PT1H
X-Robots-Tag:noindex
X-PUBLISHED-TTL:PT1H
BEGIN:VTIMEZONE
TZID:Europe/Paris
BEGIN:DAYLIGHT
TZOFFSETFROM:+0100
TZOFFSETTO:+0200
TZNAME:CEST
DTSTART:20250330T010000
END:DAYLIGHT
BEGIN:STANDARD
TZOFFSETFROM:+0200
TZOFFSETTO:+0100
TZNAME:CET
DTSTART:20251026T010000
END:STANDARD
BEGIN:DAYLIGHT
TZOFFSETFROM:+0100
TZOFFSETTO:+0200
TZNAME:CEST
DTSTART:20260329T010000
END:DAYLIGHT
BEGIN:STANDARD
TZOFFSETFROM:+0200
TZOFFSETTO:+0100
TZNAME:CET
DTSTART:20261025T010000
END:STANDARD
BEGIN:DAYLIGHT
TZOFFSETFROM:+0100
TZOFFSETTO:+0200
TZNAME:CEST
DTSTART:20270328T010000
END:DAYLIGHT
BEGIN:STANDARD
TZOFFSETFROM:+0200
TZOFFSETTO:+0100
TZNAME:CET
DTSTART:20271031T010000
END:STANDARD
END:VTIMEZONE
BEGIN:VEVENT
DTSTART;TZID=Europe/Paris:20260304T080000
DTEND;TZID=Europe/Paris:20260408T170000
DTSTAMP:20260421T201614
CREATED:20260302T153950Z
LAST-MODIFIED:20260302T154006Z
UID:89454-1772611200-1775667600@inspe.unicaen.fr
SUMMARY:Être fleur
DESCRIPTION:En lien avec la journée d’études du 4 mars 2026\, Éducation au/par le vivant\, Madame Marie-Laure Guégan organise une exposition nommé « Être fleur » dans le hall de l’INSPÉ sur le site de Caen.  \n\n\n\nUn vernissage de l’exposition aura lieu le mercredi 4 mars à 17h dans le Halle de l’INSPÉ sur le site de Caen.
URL:https://inspe.unicaen.fr/evenement/etre-fleur/
LOCATION:Caen · Hall de l’INSPÉ\, INSPÉ Caen Normandie\, 186 Rue de la Délivrande\, Caen\, 14000\, France
CATEGORIES:Exposition
ATTACH;FMTTYPE=image/png:https://inspe.unicaen.fr/wp-content/uploads/sites/59/2026/03/Banniere-site-Inspe1.png
END:VEVENT
END:VCALENDAR