BEGIN:VCALENDAR
VERSION:2.0
PRODID:-//INSPE · Institut national supérieur du professorat et de l&#039;éducation Normandie · Caen - ECPv6.15.18//NONSGML v1.0//EN
CALSCALE:GREGORIAN
METHOD:PUBLISH
X-WR-CALNAME:INSPE · Institut national supérieur du professorat et de l&#039;éducation Normandie · Caen
X-ORIGINAL-URL:https://inspe.unicaen.fr
X-WR-CALDESC:Évènements pour INSPE · Institut national supérieur du professorat et de l&#039;éducation Normandie · Caen
REFRESH-INTERVAL;VALUE=DURATION:PT1H
X-Robots-Tag:noindex
X-PUBLISHED-TTL:PT1H
BEGIN:VTIMEZONE
TZID:Europe/Paris
BEGIN:DAYLIGHT
TZOFFSETFROM:+0100
TZOFFSETTO:+0200
TZNAME:CEST
DTSTART:20240331T010000
END:DAYLIGHT
BEGIN:STANDARD
TZOFFSETFROM:+0200
TZOFFSETTO:+0100
TZNAME:CET
DTSTART:20241027T010000
END:STANDARD
BEGIN:DAYLIGHT
TZOFFSETFROM:+0100
TZOFFSETTO:+0200
TZNAME:CEST
DTSTART:20250330T010000
END:DAYLIGHT
BEGIN:STANDARD
TZOFFSETFROM:+0200
TZOFFSETTO:+0100
TZNAME:CET
DTSTART:20251026T010000
END:STANDARD
BEGIN:DAYLIGHT
TZOFFSETFROM:+0100
TZOFFSETTO:+0200
TZNAME:CEST
DTSTART:20260329T010000
END:DAYLIGHT
BEGIN:STANDARD
TZOFFSETFROM:+0200
TZOFFSETTO:+0100
TZNAME:CET
DTSTART:20261025T010000
END:STANDARD
BEGIN:DAYLIGHT
TZOFFSETFROM:+0100
TZOFFSETTO:+0200
TZNAME:CEST
DTSTART:20270328T010000
END:DAYLIGHT
BEGIN:STANDARD
TZOFFSETFROM:+0200
TZOFFSETTO:+0100
TZNAME:CET
DTSTART:20271031T010000
END:STANDARD
END:VTIMEZONE
BEGIN:VEVENT
DTSTART;TZID=Europe/Paris:20251125T080000
DTEND;TZID=Europe/Paris:20260304T170000
DTSTAMP:20260421T220344
CREATED:20251125T110032Z
LAST-MODIFIED:20251205T090033Z
UID:89219-1764057600-1772643600@inspe.unicaen.fr
SUMMARY:Qui a peur de qui ?
DESCRIPTION:Exposition d’œuvres d’enfants âgés de 3 à 6 ans (1950-1985)\, issues de la collection Germaine Tortel – Pédagogie d’initiation© et prêtées par l’association.Cette exposition fait le lien avec la journée d’études « Enfant auteur : Penser à hauteur d’enfants (J. Korczak) »\, qui se tiendra le 4 mars 2026 sur le site d’Alençon de l’INSPÉ. \n\n\n\nL’exposition est visible dans le hall de l’INSPÉ d’Alençon\, campus de Damigny\, du lundi au vendredi\, de 9 h à 17 h 30.
URL:https://inspe.unicaen.fr/evenement/qui-a-peur-de-qui/
LOCATION:Alençon · INSPÉ\, INSPÉ Normandie Caen\, centre d'Alençon\, Montfoulon\, Damigny\, 61250\, France
CATEGORIES:Exposition,Recherche
ATTACH;FMTTYPE=image/jpeg:https://inspe.unicaen.fr/wp-content/uploads/sites/59/2025/11/2026-04-bannirere_web_enfant_auteur_expo-1.jpg
END:VEVENT
END:VCALENDAR